BEGIN:VCALENDAR
VERSION:2.0
PRODID:icalendar-ruby
CALSCALE:GREGORIAN
METHOD:PUBLISH
BEGIN:VEVENT
DTSTAMP:20260421T105033Z
UID:2-1295331@brookingsfirst.com
DTSTART:20240428T170000Z
DTEND:20240428T190000Z
CLASS:PUBLIC
CREATED:20260421T034853
DESCRIPTION:Join Us In Person Or Online For Our Sunday Morning Worship Serv
 ice!
LAST-MODIFIED:20260421T034853
LOCATION:Brookings First Assembly Of God
SUMMARY:Sunday Service
URL;VALUE=URI:https://www.brookingsfirst.com/events/sunday-service/2024-04-
 28
ATTACH;FILENAME=hannah-busing-gktFjKSWAmA-unsplash.jpg;FMTTYPE=image/jpeg:h
 ttps://dq5pwpg1q8ru0.cloudfront.net/2020/06/04/14/06/58/3c008125-8dae-4c26
 -a168-e0c3e6ffcc76/hannah-busing-gktFjKSWAmA-unsplash.jpg
END:VEVENT
END:VCALENDAR
